BEGIN:VCALENDAR
VERSION:2.0
PRODID:spatie/icalendar-generator
DESCRIPTION:Events from UAARC -- Upshur Area Amateur Radio Club\, Inc
X-WR-CALDESC:Events from UAARC -- Upshur Area Amateur Radio Club\, Inc
REFRESH-INTERVAL;VALUE=DURATION:PT1440M
X-PUBLISHED-TTL:PT1440M
BEGIN:VTIMEZONE
TZID:Etc/GMT+6
BEGIN:STANDARD
DTSTART:20250703T190000Z
TZOFFSETFROM:-0600
TZOFFSETTO:-0600
END:STANDARD
END:VTIMEZONE
BEGIN:VTIMEZONE
TZID:UTC
BEGIN:STANDARD
DTSTART:20250723T192352Z
TZOFFSETFROM:+0000
TZOFFSETTO:+0000
END:STANDARD
END:VTIMEZONE
BEGIN:VEVENT
UID:1028-111
DTSTAMP:20260419T192352Z
SUMMARY:Club Net
LOCATION:
ORGANIZER;CN=William Collier:MAILTO:kingsxwc@gmail.com
RRULE:FREQ=WEEKLY;UNTIL=20261231T000000Z
DTSTART;TZID=Etc/GMT+6:20260330T190000
DTEND;TZID=Etc/GMT+6:20260330T200000
X-ALT-DESC;FMTTYPE=TEXT/HTML:<p>Club Net on the K5UAR Repeater</p>\n
CATEGORIES:Club Event
URL;VALUE=URI:https://uaarc.club/calendar/?mc_id=1028&#038;vcal=1028
METHOD:PUBLISH
END:VEVENT
END:VCALENDAR