BEGIN:VCALENDAR
VERSION:2.0
PRODID:spatie/icalendar-generator
DESCRIPTION:Events from UAARC -- Upshur Area Amateur Radio Club\, Inc
X-WR-CALDESC:Events from UAARC -- Upshur Area Amateur Radio Club\, Inc
REFRESH-INTERVAL;VALUE=DURATION:PT1440M
X-PUBLISHED-TTL:PT1440M
BEGIN:VTIMEZONE
TZID:Etc/GMT+6
BEGIN:STANDARD
DTSTART:20250729T070000Z
TZOFFSETFROM:-0600
TZOFFSETTO:-0600
END:STANDARD
END:VTIMEZONE
BEGIN:VTIMEZONE
TZID:UTC
BEGIN:STANDARD
DTSTART:20250723T192959Z
TZOFFSETFROM:+0000
TZOFFSETTO:+0000
END:STANDARD
END:VTIMEZONE
BEGIN:VEVENT
UID:1230-122
DTSTAMP:20260419T192959Z
SUMMARY:Emory Hamfest
LOCATION:Rains County Fairgrounds 210 S Texas St  Emory Texas 75440
ORGANIZER;CN=William Collier:MAILTO:kingsxwc@gmail.com
DTSTART;TZID=Etc/GMT+6:20260425T070000
DTEND;TZID=Etc/GMT+6:20260425T133000
X-ALT-DESC;FMTTYPE=TEXT/HTML:<p>Emory Hamfest<br />\nSponsored by Rains Co 
 ARA<br />\n$5 admission</p>\n
CATEGORIES:Hamfest
URL;VALUE=URI:https://uaarc.club/calendar/?mc_id=1230&#038;vcal=1230
METHOD:PUBLISH
END:VEVENT
END:VCALENDAR